BEGIN:VCALENDAR
VERSION:2.0
PRODID:-//eventon.com NONSGML v1.0//EN
CALSCALE:GREGORIAN
METHOD:PUBLISH
BEGIN:VEVENT
UID:69e74ec3b4b7e
DTSTAMP:20260421T101739Z
DTSTART:20251010T210000Z
DTEND:20251011T050000Z
LOCATION:Elektroküche | KÖLN
SUMMARY:Technoblock x Hard Edition
DESCRIPTION:Nina Bender Dana Roosy Charlie Kevin la Nique Marinus DJ Contes
 t Winner\nhttps://www.theclubmap.com/events/technoblock-x-hard-edition/
URL:https://www.theclubmap.com/events/technoblock-x-hard-edition/
END:VEVENT
END:VCALENDAR