BEGIN:VCALENDAR
VERSION:2.0
PRODID:-//eventon.com NONSGML v1.0//EN
CALSCALE:GREGORIAN
METHOD:PUBLISH
BEGIN:VEVENT
UID:69e74ee6290c6
DTSTAMP:20260421T101814Z
DTSTART:20251010T215900Z
DTEND:20251011T040000Z
LOCATION:Silbergold | FRANKFURT
SUMMARY:Fill Your Head
DESCRIPTION:Boutiq.808 Chris Beulich Philanthrop AKR\nhttps://www.theclubma
 p.com/events/fill-your-head/
URL:https://www.theclubmap.com/events/fill-your-head/
END:VEVENT
END:VCALENDAR