BEGIN:VCALENDAR
VERSION:2.0
PRODID:-//eventon.com NONSGML v1.0//EN
CALSCALE:GREGORIAN
METHOD:PUBLISH
BEGIN:VEVENT
UID:69e73e83a5d69
DTSTAMP:20260421T090819Z
DTSTART:20251011T215900Z
DTEND:20251012T070000Z
LOCATION:Elipamanoke | LEIPZIG
SUMMARY:fem*vak
DESCRIPTION:cheetah dj spa DJ Rakita s-ray Stenella sx3lz Tender Tantrum\nh
 ttps://www.theclubmap.com/events/femvak/
URL:https://www.theclubmap.com/events/femvak/
END:VEVENT
END:VCALENDAR