BEGIN:VCALENDAR
VERSION:2.0
PRODID:-//eventon.com NONSGML v1.0//EN
CALSCALE:GREGORIAN
METHOD:PUBLISH
BEGIN:VEVENT
UID:69e9d7b0ba48a
DTSTAMP:20260423T082624Z
DTSTART:20251011T210000Z
DTEND:20251012T060000Z
LOCATION:objekt klein a | DRESDEN
SUMMARY:MODUS: Matrixxman
DESCRIPTION:Groß A Matrixxman [ 5 Hour Set ] klein a SAM Naomi Jun.Choi\nh
 ttps://www.theclubmap.com/events/modus-matrixxman/
URL:https://www.theclubmap.com/events/modus-matrixxman/
END:VEVENT
END:VCALENDAR