BEGIN:VCALENDAR
VERSION:2.0
PRODID:-//eventon.com NONSGML v1.0//EN
CALSCALE:GREGORIAN
METHOD:PUBLISH
BEGIN:VEVENT
UID:69e73b16c176b
DTSTAMP:20260421T085342Z
DTSTART:20251011T200000Z
DTEND:20251012T060000Z
LOCATION:Ritter Butzke Ritterstrasse 26\,  10969 Berlin
SUMMARY:Ritter Butzke Jubiläum
DESCRIPTION:NTO Julian Jeweil Einmusik Super Flu Format B Niconé Prismode 
 &#038; Solvane Markus Klee SHA (DE) Rad.Lez OLEA Malouna Blossmbae Sabu! Ka
 uderwelsch Undercover Junkie Mela Leøne\nhttps://www.theclubmap.com/events
 /ritter-butzke-jubilaeum/
URL:https://www.theclubmap.com/events/ritter-butzke-jubilaeum/
END:VEVENT
END:VCALENDAR