BEGIN:VCALENDAR
VERSION:2.0
PRODID:-//eventon.com NONSGML v1.0//EN
CALSCALE:GREGORIAN
METHOD:PUBLISH
BEGIN:VEVENT
UID:69e74fdc73d64
DTSTAMP:20260421T102220Z
DTSTART:20251018T210000Z
DTEND:20251019T040000Z
LOCATION:YOTO Hamburg
SUMMARY:YOTO x Shari Who\,  DRAFT X\,  C-LECTA
DESCRIPTION:Shari Who DRAFT X C-LECTA\nhttps://www.theclubmap.com/events/yo
 to-x-shari-who-draft-x-c-lecta-2/
URL:https://www.theclubmap.com/events/yoto-x-shari-who-draft-x-c-lecta-2/
END:VEVENT
END:VCALENDAR