BEGIN:VCALENDAR
VERSION:2.0
PRODID:-//eventon.com NONSGML v1.0//EN
CALSCALE:GREGORIAN
METHOD:PUBLISH
BEGIN:VEVENT
UID:69e74010055d2
DTSTAMP:20260421T091456Z
DTSTART:20251018T150000Z
DTEND:20251019T060000Z
LOCATION:Rote Sonne | MÜNCHEN
SUMMARY:shockwerk & friends
DESCRIPTION:slin \,  Chet Rubbs \,  DJ Floppy Disk \,  lex (DE) \,  VSSL \,
   Goiaba \,  VSMR \,  STRAUSS \,  Müdemann \,  Almedina\nhttps://www.thecl
 ubmap.com/events/shockwerk-friends/
URL:https://www.theclubmap.com/events/shockwerk-friends/
END:VEVENT
END:VCALENDAR