BEGIN:VCALENDAR
VERSION:2.0
PRODID:-//eventon.com NONSGML v1.0//EN
CALSCALE:GREGORIAN
METHOD:PUBLISH
BEGIN:VEVENT
UID:69e74e0a4ddd4
DTSTAMP:20260421T101434Z
DTSTART:20251024T210000Z
DTEND:20251025T060000Z
LOCATION:BLITZ Club | MÜNCHEN
SUMMARY:BLITZ with Carl Craig\,  Kareem El Morr\,  Willow
DESCRIPTION:BLITZ Carl Craig [Planet E] Kareem El Morr [roots.audio] Willow
 \nhttps://www.theclubmap.com/events/blitz-with-carl-craig-kareem-el-morr-wi
 llow/
URL:https://www.theclubmap.com/events/blitz-with-carl-craig-kareem-el-morr-willow/
END:VEVENT
END:VCALENDAR