BEGIN:VCALENDAR
VERSION:2.0
PRODID:-//eventon.com NONSGML v1.0//EN
CALSCALE:GREGORIAN
METHOD:PUBLISH
BEGIN:VEVENT
UID:69e7745510a62
DTSTAMP:20260421T125757Z
DTSTART:20251017T200000Z
DTEND:20251018T040000Z
LOCATION:Berghain | Panorama Bar | Säule Am Wriezener Bahnhof 70\,  10243 Berlin
SUMMARY:Bite Nite
DESCRIPTION:Unhuman &#038; Petra Flurr (live) Clarisa Kimskii GAEL Matrixxm
 an Ne/Re/A Phase Fatale ketia Pablo Bozzi Sharlese THC\nhttps://www.theclub
 map.com/events/bite-nite/
URL:https://www.theclubmap.com/events/bite-nite/
END:VEVENT
END:VCALENDAR