BEGIN:VCALENDAR
VERSION:2.0
PRODID:-//eventon.com NONSGML v1.0//EN
CALSCALE:GREGORIAN
METHOD:PUBLISH
BEGIN:VEVENT
UID:69e74fac61908
DTSTAMP:20260421T102132Z
DTSTART:20251017T210000Z
DTEND:20251018T040000Z
LOCATION:Artheater | KÖLN
SUMMARY:Mika Heggemann All Night Long
DESCRIPTION:Mika Heggemann\nhttps://www.theclubmap.com/events/mika-heggeman
 n-all-night-long/
URL:https://www.theclubmap.com/events/mika-heggemann-all-night-long/
END:VEVENT
END:VCALENDAR