BEGIN:VCALENDAR
VERSION:2.0
PRODID:-//eventon.com NONSGML v1.0//EN
CALSCALE:GREGORIAN
METHOD:PUBLISH
BEGIN:VEVENT
UID:69e77a3f41872
DTSTAMP:20260421T132311Z
DTSTART:20251019T120000Z
DTEND:20251020T200000Z
LOCATION:Odonien | KÖLN
SUMMARY:WHEN THE SUN GOES DOWN Odonien Openair Closing 2025
DESCRIPTION:Niconé (Katermukke) LALENA (Reineke Fuchs) Freddy Deckert (Gew
 ölbe) Leolo Lozone (Treibstoff Klub)\nhttps://www.theclubmap.com/events/wh
 en-the-sun-goes-down-odonien-openair-closing-2025-3/
URL:https://www.theclubmap.com/events/when-the-sun-goes-down-odonien-openair-closing-2025-3/
END:VEVENT
END:VCALENDAR