BEGIN:VCALENDAR
VERSION:2.0
PRODID:-//eventon.com NONSGML v1.0//EN
CALSCALE:GREGORIAN
METHOD:PUBLISH
BEGIN:VEVENT
UID:69e74084acb67
DTSTAMP:20260421T091652Z
DTSTART:20251031T180000Z
DTEND:20251101T003000Z
LOCATION:Kampnagel | HAMBURG
SUMMARY:ÜBERJAZZ FESTIVAL 2025 Freitag
DESCRIPTION:ÀBÁSE | ALABASTER DEPLUME | ANGEL BAT DAWID &#038; NAIMA NEFE
 RTARI | corto.alto | DOUNIAH | FLUR | Joy Guidry | KARRIEM RIGGINS &#038; J
 .Rocc | LUCY LIEBE | MISHA PANFILOV SEPTET | SALIN | TOMOKI SANDERS | Zeitg
 eist Freedom Energy Exchange\nhttps://www.theclubmap.com/events/ueberjazz-f
 estival-2025-freitag/
URL:https://www.theclubmap.com/events/ueberjazz-festival-2025-freitag/
END:VEVENT
END:VCALENDAR