BEGIN:VCALENDAR
VERSION:2.0
PRODID:-//eventon.com NONSGML v1.0//EN
CALSCALE:GREGORIAN
METHOD:PUBLISH
BEGIN:VEVENT
UID:69e762bf9202a
DTSTAMP:20260421T114255Z
DTSTART:20251031T210000Z
DTEND:20251101T060000Z
LOCATION:Pimpernel | MÜNCHEN
SUMMARY:Pimpernel All Night Long
DESCRIPTION:Roberto Sotgia\nhttps://www.theclubmap.com/events/pimpernel-all
 -night-long-10/
URL:https://www.theclubmap.com/events/pimpernel-all-night-long-10/
END:VEVENT
END:VCALENDAR