BEGIN:VCALENDAR
VERSION:2.0
PRODID:-//eventon.com NONSGML v1.0//EN
CALSCALE:GREGORIAN
METHOD:PUBLISH
BEGIN:VEVENT
UID:69e62418d92c0
DTSTAMP:20260420T130320Z
DTSTART:20260529T170000Z
DTEND:20260529T190000Z
LOCATION:Huxleys Berlin Hasenheide 107/113\,  10967 Berlin
SUMMARY:Gregor Hägele - Tour\,  was du nicht lassen kannst 2026
DESCRIPTION:Was du nicht lassen kannst? Ganz einfach: bei dieser Tour fehle
 n. Denn Gregor Hägele geht im Mai 2026 endlich wieder auf die Bühne – u
 nd diesmal richtig. Mit „TOUR\,  WAS DU NICHT LASSEN KANNST“ elf Shows\
 ,  voller Energie\,  die ansteckt. Mit der Stimme\,  die dich sofort packt.
  Mit einer Präsenz\, [..]\nhttps://www.theclubmap.com/events/gregor-haegel
 e-tour-was-du-nicht-lassen-kannst-2026/
URL:https://www.theclubmap.com/events/gregor-haegele-tour-was-du-nicht-lassen-kannst-2026/
END:VEVENT
END:VCALENDAR