BEGIN:VCALENDAR
VERSION:2.0
PRODID:-//eventon.com NONSGML v1.0//EN
CALSCALE:GREGORIAN
METHOD:PUBLISH
BEGIN:VEVENT
UID:69e5fc1bda83c
DTSTAMP:20260420T101243Z
DTSTART:20251108T160000Z
DTEND:20251109T220000Z
LOCATION:Subway | KÖLN
SUMMARY:Immernoch! Tanzen
DESCRIPTION:Henri Kohn\,  Irwin Leschet\,  Eric Eltron\nhttps://www.theclub
 map.com/events/immernoch-tanzen-3/
URL:https://www.theclubmap.com/events/immernoch-tanzen-3/
END:VEVENT
END:VCALENDAR