BEGIN:VCALENDAR
VERSION:2.0
PRODID:-//eventon.com NONSGML v1.0//EN
CALSCALE:GREGORIAN
METHOD:PUBLISH
BEGIN:VEVENT
UID:69e74f9d8607b
DTSTAMP:20260421T102117Z
DTSTART:20251115T220000Z
DTEND:20251116T050000Z
LOCATION:Fundbureau | HAMBURG
SUMMARY:Konfusia // Randali // HALLO WERNER SHOWCASE
DESCRIPTION:Konfusia Randali HALLO WERNER SHOWCASE\nhttps://www.theclubmap.
 com/events/konfusia-randali-hallo-werner-showcase/
URL:https://www.theclubmap.com/events/konfusia-randali-hallo-werner-showcase/
END:VEVENT
END:VCALENDAR