BEGIN:VCALENDAR
VERSION:2.0
PRODID:-//eventon.com NONSGML v1.0//EN
CALSCALE:GREGORIAN
METHOD:PUBLISH
BEGIN:VEVENT
UID:69e74e95c49fc
DTSTAMP:20260421T101653Z
DTSTART:20251114T210000Z
DTEND:20251115T040000Z
LOCATION:Legal | MÜNCHEN
SUMMARY:Legal x string
DESCRIPTION:Club Tobi Neumann Anitë Vincent Lang b2b Haze (GER) Bar WITTGE
 NSTEIN Cheek2Cheek VSMR\nhttps://www.theclubmap.com/events/legal-x-string/
URL:https://www.theclubmap.com/events/legal-x-string/
END:VEVENT
END:VCALENDAR