BEGIN:VCALENDAR
VERSION:2.0
PRODID:-//eventon.com NONSGML v1.0//EN
CALSCALE:GREGORIAN
METHOD:PUBLISH
BEGIN:VEVENT
UID:69e73ebadcdc3
DTSTAMP:20260421T090914Z
DTSTART:20251128T210000Z
DTEND:20251129T050000Z
LOCATION:Slot | HAMBURG
SUMMARY:SLOT HOME RAVE
DESCRIPTION:Baumann keos b2b Marta Aurelia Enrico Mori b2b fraukatah\nhttps
 ://www.theclubmap.com/events/slot-home-rave/
URL:https://www.theclubmap.com/events/slot-home-rave/
END:VEVENT
END:VCALENDAR