BEGIN:VCALENDAR
VERSION:2.0
PRODID:-//eventon.com NONSGML v1.0//EN
CALSCALE:GREGORIAN
METHOD:PUBLISH
BEGIN:VEVENT
UID:69e74fa1e5b60
DTSTAMP:20260421T102121Z
DTSTART:20251205T220000Z
DTEND:20251206T050000Z
LOCATION:Gewölbe | KÖLN
SUMMARY:krakelee club with Clarisa Kimskii\,  Elisen\,  Stikdorn
DESCRIPTION:Clarisa Kimskii Elisen Stikdorn\nhttps://www.theclubmap.com/eve
 nts/krakelee-club-with-clarisa-kimskii-elisen-stikdorn/
URL:https://www.theclubmap.com/events/krakelee-club-with-clarisa-kimskii-elisen-stikdorn/
END:VEVENT
END:VCALENDAR