BEGIN:VCALENDAR
VERSION:2.0
PRODID:-//eventon.com NONSGML v1.0//EN
CALSCALE:GREGORIAN
METHOD:PUBLISH
BEGIN:VEVENT
UID:69e74027a5f36
DTSTAMP:20260421T091519Z
DTSTART:20260321T210000Z
DTEND:20260321T225900Z
LOCATION:Indra Musikclub | HAMBURG
SUMMARY:Alternation
DESCRIPTION:Bereit\,  eure Tanzschuhe zu schnüren und den Körper zum Erbe
 ben zu bringen? Wir laden euch herzlich zur ultimativen Rock Disko Party im
  legendären Indra Musikclub ein! Tretet ein in eine Welt voller pulsierend
 er Beats\,  mitreißender Gitarrenriffs und unvergesslicher Melodien! DJ Fu
 chs wird die Plattenteller zum Glühen bringen und euch auf[..]\nhttps://ww
 w.theclubmap.com/events/alternation/
URL:https://www.theclubmap.com/events/alternation/
END:VEVENT
END:VCALENDAR