BEGIN:VCALENDAR
VERSION:2.0
PRODID:-//eventon.com NONSGML v1.0//EN
CALSCALE:GREGORIAN
METHOD:PUBLISH
BEGIN:VEVENT
UID:69e5e370935af
DTSTAMP:20260420T082728Z
DTSTART:20260313T223000Z
DTEND:20260314T043000Z
LOCATION:Badehaus Berlin Revalerstrasse 99\,  10245 Berlin
SUMMARY:FLINTA* Club Deck goes Badehaus
DESCRIPTION:F*CD goes… Badehaus features FLINTA* DJs only. It’s leitmot
 if “FLINTA* DJs to the front” focuses on offering a diversity of electr
 onic music genres HOUSE\,  GROOVE\,  DARK DISCO\,  GROOVE\,  TRANCE\,  HARD
  HOUSE and BOUNCE to our audience. The party also promotes diversity in ter
 ms of artistic expression within the FLINTA* and[..]\nhttps://www.theclubma
 p.com/events/flinta-club-deck-goes-badehaus/
URL:https://www.theclubmap.com/events/flinta-club-deck-goes-badehaus/
END:VEVENT
END:VCALENDAR