BEGIN:VCALENDAR
VERSION:2.0
PRODID:-//eventon.com NONSGML v1.0//EN
CALSCALE:GREGORIAN
METHOD:PUBLISH
BEGIN:VEVENT
UID:69e773e20dd3b
DTSTAMP:20260421T125602Z
DTSTART:20260214T210000Z
DTEND:20260215T110000Z
LOCATION:La Cova | HAMBURG
SUMMARY:GET PERSONAL. — Valentine's Special
DESCRIPTION:TMB (1) @EGOSHOOTER 10000 materia hache @Deysie Eva Nyx B2B Zul
 u\nhttps://www.theclubmap.com/events/get-personal-valentines-special/
URL:https://www.theclubmap.com/events/get-personal-valentines-special/
END:VEVENT
END:VCALENDAR