BEGIN:VCALENDAR
VERSION:2.0
PRODID:-//eventon.com NONSGML v1.0//EN
CALSCALE:GREGORIAN
METHOD:PUBLISH
BEGIN:VEVENT
UID:69e7626936ceb
DTSTAMP:20260421T114129Z
DTSTART:20260215T110000Z
DTEND:20260216T190000Z
LOCATION:La Cova | HAMBURG
SUMMARY:La Cova 6 Years B-Day
DESCRIPTION:Dirty Disco Divas SOFTDRIVE ENTAKTOGEN KATHARSIS\nhttps://www.t
 heclubmap.com/events/la-cova-6-years-b-day/
URL:https://www.theclubmap.com/events/la-cova-6-years-b-day/
END:VEVENT
END:VCALENDAR