BEGIN:VCALENDAR
VERSION:2.0
PRODID:-//eventon.com NONSGML v1.0//EN
CALSCALE:GREGORIAN
METHOD:PUBLISH
BEGIN:VEVENT
UID:69e7622d5cba8
DTSTAMP:20260421T114029Z
DTSTART:20260215T120000Z
DTEND:20260216T200000Z
LOCATION:TURTUR | HAMBURG
SUMMARY:Flausch am Sonntag & DIE LINKE - AG QueerFem
DESCRIPTION:PizzaKid\,  Harmoniegold\,  GOOSINDRA\,  Nassstya &#038; Migati
 \nhttps://www.theclubmap.com/events/flausch-am-sonntag-die-linke-ag-queerfe
 m/
URL:https://www.theclubmap.com/events/flausch-am-sonntag-die-linke-ag-queerfem/
END:VEVENT
END:VCALENDAR