BEGIN:VCALENDAR
VERSION:2.0
PRODID:-//eventon.com NONSGML v1.0//EN
CALSCALE:GREGORIAN
METHOD:PUBLISH
BEGIN:VEVENT
UID:69e5e4265f5cc
DTSTAMP:20260420T083030Z
DTSTART:20260215T200000Z
DTEND:20260216T020000Z
LOCATION:Golden Pudel | HAMBURG
SUMMARY:Whatever w/ DjBadshape & Istari Lasterfahrer
DESCRIPTION:DjBadshape &#038; Istari Lasterfahrer\nhttps://www.theclubmap.c
 om/events/whatever-w-djbadshape-istari-lasterfahrer/
URL:https://www.theclubmap.com/events/whatever-w-djbadshape-istari-lasterfahrer/
END:VEVENT
END:VCALENDAR