BEGIN:VCALENDAR
VERSION:2.0
PRODID:-//eventon.com NONSGML v1.0//EN
CALSCALE:GREGORIAN
METHOD:PUBLISH
BEGIN:VEVENT
UID:69e7537f43c49
DTSTAMP:20260421T103751Z
DTSTART:20260215T010000Z
DTEND:20260216T090000Z
LOCATION:PALAIS Club | MÜNCHEN
SUMMARY:RHEINGOLD
DESCRIPTION:Timo Liederer (Die Liederei / TeamTURBO) EIK (Römertanz / Köl
 n)\nhttps://www.theclubmap.com/events/rheingold/
URL:https://www.theclubmap.com/events/rheingold/
END:VEVENT
END:VCALENDAR