BEGIN:VCALENDAR
VERSION:2.0
PRODID:-//eventon.com NONSGML v1.0//EN
CALSCALE:GREGORIAN
METHOD:PUBLISH
BEGIN:VEVENT
UID:69e7625a37901
DTSTAMP:20260421T114114Z
DTSTART:20260213T220000Z
DTEND:20260214T070000Z
LOCATION:Artheater | KÖLN
SUMMARY:Wyldhearts Karnevals Freitag
DESCRIPTION:ASCHENBRENNER Atzendent Azhar Sistorms BabaBass3000 Bounce MC F
 ERRAD HugoBass303 JAYS Rundfunk SUITSIDE The Second I\nhttps://www.theclubm
 ap.com/events/wyldhearts-karnevals-freitag/
URL:https://www.theclubmap.com/events/wyldhearts-karnevals-freitag/
END:VEVENT
END:VCALENDAR