BEGIN:VCALENDAR
VERSION:2.0
PRODID:-//eventon.com NONSGML v1.0//EN
CALSCALE:GREGORIAN
METHOD:PUBLISH
BEGIN:VEVENT
UID:69e74f1391b6e
DTSTAMP:20260421T101859Z
DTSTART:20260214T210000Z
DTEND:20260215T050000Z
LOCATION:Gewölbe | KÖLN
SUMMARY:Klubnacht Karnevalssamstag with David Hasert\,  keikee\,  Kollektiv Turmstrasse\,  LALENA
DESCRIPTION:David Hasert Kollektiv Turmstrasse keikee LALENA\nhttps://www.t
 heclubmap.com/events/klubnacht-karnevalssamstag-with-david-hasert-keikee-ko
 llektiv-turmstrasse-lalena/
URL:https://www.theclubmap.com/events/klubnacht-karnevalssamstag-with-david-hasert-keikee-kollektiv-turmstrasse-lalena/
END:VEVENT
END:VCALENDAR