BEGIN:VCALENDAR
VERSION:2.0
PRODID:-//eventon.com NONSGML v1.0//EN
CALSCALE:GREGORIAN
METHOD:PUBLISH
BEGIN:VEVENT
UID:69e73e00e9be8
DTSTAMP:20260421T090608Z
DTSTART:20260213T220000Z
DTEND:20260214T060000Z
LOCATION:WDM | HANNOVER Weidendamm 8\,  30167 Hannover
SUMMARY:ODIO with KOWOLSKI\,  Mansist\,  hamø\,  Davitte b2b AHLIAS\,  Pytrak
DESCRIPTION:KOWOLSKI Mansist Hamo Davitte b2b AHLIAS Pytrak\nhttps://www.th
 eclubmap.com/events/odio-with-kowolski-mansist-hamo-davitte-b2b-ahlias-pytr
 ak/
URL:https://www.theclubmap.com/events/odio-with-kowolski-mansist-hamo-davitte-b2b-ahlias-pytrak/
END:VEVENT
END:VCALENDAR