BEGIN:VCALENDAR
VERSION:2.0
PRODID:-//eventon.com NONSGML v1.0//EN
CALSCALE:GREGORIAN
METHOD:PUBLISH
BEGIN:VEVENT
UID:69e7543d8c561
DTSTAMP:20260421T104101Z
DTSTART:20260220T200000Z
DTEND:20260221T090000Z
LOCATION:PALAIS Club | MÜNCHEN
SUMMARY:RED NIGHT DISTRICT
DESCRIPTION:FR 20.2.26_21-10h RED NIGHT DISTRICT S.Matt (permanent ton) Tek
 to (Electroamore) DJ Linus (Palais / Sujet Musique) Wir sehen mal wieder Ro
 t\,  aber im positiven Sinne. Denn heute öffnen wir unseren „Red Night D
 istrict” und freuen uns\,  dass S.Matt\,  Tekto und DJ Linus in dieser Na
 cht ihre Dienste anbieten. S.Matt aka[..]\nhttps://www.theclubmap.com/event
 s/red-night-district/
URL:https://www.theclubmap.com/events/red-night-district/
END:VEVENT
END:VCALENDAR