BEGIN:VCALENDAR
VERSION:2.0
PRODID:-//eventon.com NONSGML v1.0//EN
CALSCALE:GREGORIAN
METHOD:PUBLISH
BEGIN:VEVENT
UID:69e74fcf40cc4
DTSTAMP:20260421T102207Z
DTSTART:20260221T210000Z
DTEND:20260222T050000Z
LOCATION:Lieberscholli | MUNCHEN
SUMMARY:House Affairs
DESCRIPTION:DASH (SLO) O/H/M DJ Weißwurst Human Rias Static Bloom (DE) Kon
 gusto\nhttps://www.theclubmap.com/events/house-affairs/
URL:https://www.theclubmap.com/events/house-affairs/
END:VEVENT
END:VCALENDAR