BEGIN:VCALENDAR
VERSION:2.0
PRODID:-//eventon.com NONSGML v1.0//EN
CALSCALE:GREGORIAN
METHOD:PUBLISH
BEGIN:VEVENT
UID:69e783e656faa
DTSTAMP:20260421T140422Z
DTSTART:20260221T220000Z
DTEND:20260222T040000Z
LOCATION:Charlie | MÜNCHEN
SUMMARY:basement culture with Gigi Testa b/w Benny Röder
DESCRIPTION:Gigi Testa Benjamin Roeder\nhttps://www.theclubmap.com/events/b
 asement-culture-with-gigi-testa-b-w-benny-roeder/
URL:https://www.theclubmap.com/events/basement-culture-with-gigi-testa-b-w-benny-roeder/
END:VEVENT
END:VCALENDAR