BEGIN:VCALENDAR
VERSION:2.0
PRODID:-//eventon.com NONSGML v1.0//EN
CALSCALE:GREGORIAN
METHOD:PUBLISH
BEGIN:VEVENT
UID:69e5fb118fbac
DTSTAMP:20260420T100817Z
DTSTART:20260220T220000Z
DTEND:20260221T070000Z
LOCATION:Tanzhaus West | FRANKFURT
SUMMARY:Kuddelmuddel bei Nacht
DESCRIPTION:Lucid Smile. KONKRETE (VD) Kollektiv Schieflage Club Cherry Clu
 b Loyal Round165 Echoes Drum and Bass Station\nhttps://www.theclubmap.com/e
 vents/kuddelmuddel-bei-nacht-5/
URL:https://www.theclubmap.com/events/kuddelmuddel-bei-nacht-5/
END:VEVENT
END:VCALENDAR