BEGIN:VCALENDAR
VERSION:2.0
PRODID:-//eventon.com NONSGML v1.0//EN
CALSCALE:GREGORIAN
METHOD:PUBLISH
BEGIN:VEVENT
UID:69e76255cb3c3
DTSTAMP:20260421T114109Z
DTSTART:20260220T225900Z
DTEND:20260221T050000Z
LOCATION:Silbergold | FRANKFURT
SUMMARY:Schall
DESCRIPTION:Helski Blank Malaccio Paul Pahn\nhttps://www.theclubmap.com/eve
 nts/schall/
URL:https://www.theclubmap.com/events/schall/
END:VEVENT
END:VCALENDAR