BEGIN:VCALENDAR
VERSION:2.0
PRODID:-//eventon.com NONSGML v1.0//EN
CALSCALE:GREGORIAN
METHOD:PUBLISH
BEGIN:VEVENT
UID:69e4ddb77f943
DTSTAMP:20260419T135047Z
DTSTART:20260226T210000Z
DTEND:20260227T050000Z
LOCATION:Berghain | Panorama Bar | Säule Am Wriezener Bahnhof 70\,  10243 Berlin
SUMMARY:Reverse @ Berghain
DESCRIPTION:Katatonic Silentio (live) Chloe Lula Ireen Amnes Pooja B REVERS
 E widmet sich FLINTA* Künstler*innen der Underground-Techno-Szene und hat 
 sich zum Ziel gesetzt\,  Machtverhältnisse und Sichtbarkeit innerhalb der 
 Clubkultur neu zu kalibrieren. Katatonic Silentio ist der Kunstname der in 
 Turin lebenden Klangkünstlerin Mariachiara Troianiello. Die DJ und Produze
 ntin\,  bekannt für ihre[..]\nhttps://www.theclubmap.com/events/reverse-be
 rghain/
URL:https://www.theclubmap.com/events/reverse-berghain/
END:VEVENT
END:VCALENDAR