BEGIN:VCALENDAR
VERSION:2.0
PRODID:-//eventon.com NONSGML v1.0//EN
CALSCALE:GREGORIAN
METHOD:PUBLISH
BEGIN:VEVENT
UID:69e4c997ca23f
DTSTAMP:20260419T122455Z
DTSTART:19691231T230000Z
DTEND:19691231T230000Z
LOCATION:
SUMMARY:Electric Monday@KitKat
DESCRIPTION:Electric Monday@KitKat\nhttps://www.theclubmap.com/events/elect
 ric-mondaykitkat/
URL:https://www.theclubmap.com/events/electric-mondaykitkat/
END:VEVENT
END:VCALENDAR