BEGIN:VCALENDAR
VERSION:2.0
PRODID:-//eventon.com NONSGML v1.0//EN
CALSCALE:GREGORIAN
METHOD:PUBLISH
BEGIN:VEVENT
UID:69e74f2e432bf
DTSTAMP:20260421T101926Z
DTSTART:20260225T190000Z
DTEND:20260226T020000Z
LOCATION:Tausend Schiffbauerdamm 11\,  10117 Berlin
SUMMARY:Funkloch: The Midnight Audience
DESCRIPTION:The Midnight Audience. Live\,  under the tracks\,  behind the s
 teel doors. Playing an array of compositions\,  old and new\,  but all adhe
 ring to their unique sound; sonic cinema. Their intense\,  winding composit
 ions unfold with patience and presence — music to be listened to\,  not c
 onsumed. As the night opens up\, [..]\nhttps://www.theclubmap.com/events/fu
 nkloch-the-midnight-audience/
URL:https://www.theclubmap.com/events/funkloch-the-midnight-audience/
END:VEVENT
END:VCALENDAR