BEGIN:VCALENDAR
VERSION:2.0
PRODID:-//eventon.com NONSGML v1.0//EN
CALSCALE:GREGORIAN
METHOD:PUBLISH
BEGIN:VEVENT
UID:69e7400a16390
DTSTAMP:20260421T091450Z
DTSTART:19691231T230000Z
DTEND:19691231T230000Z
LOCATION:
SUMMARY:=Floathouse Studio presents the Rémi.fr Tour Afterparty
DESCRIPTION:=Floathouse Studio presents the Rémi.fr Tour Afterparty\nhttps
 ://www.theclubmap.com/events/floathouse-studio-presents-the-remi-fr-tour-af
 terparty-3/
URL:https://www.theclubmap.com/events/floathouse-studio-presents-the-remi-fr-tour-afterparty-3/
END:VEVENT
END:VCALENDAR