BEGIN:VCALENDAR
VERSION:2.0
PRODID:-//eventon.com NONSGML v1.0//EN
CALSCALE:GREGORIAN
METHOD:PUBLISH
BEGIN:VEVENT
UID:69e4d7731fc08
DTSTAMP:20260419T132403Z
DTSTART:19691231T230000Z
DTEND:19691231T230000Z
LOCATION:
SUMMARY:=Dark Monday
DESCRIPTION:=Dark Monday\nhttps://www.theclubmap.com/events/dark-monday-3/
URL:https://www.theclubmap.com/events/dark-monday-3/
END:VEVENT
END:VCALENDAR