BEGIN:VCALENDAR
VERSION:2.0
PRODID:-//eventon.com NONSGML v1.0//EN
CALSCALE:GREGORIAN
METHOD:PUBLISH
BEGIN:VEVENT
UID:69e73a3da2cf6
DTSTAMP:20260421T085005Z
DTSTART:19691231T230000Z
DTEND:19691231T230000Z
LOCATION:
SUMMARY:=SINGULARITY x VESELKA
DESCRIPTION:=SINGULARITY x VESELKA\nhttps://www.theclubmap.com/events/singu
 larity-x-veselka-4/
URL:https://www.theclubmap.com/events/singularity-x-veselka-4/
END:VEVENT
END:VCALENDAR