BEGIN:VCALENDAR
VERSION:2.0
PRODID:-//eventon.com NONSGML v1.0//EN
CALSCALE:GREGORIAN
METHOD:PUBLISH
BEGIN:VEVENT
UID:69e9e82098502
DTSTAMP:20260423T093632Z
DTSTART:19691231T230000Z
DTEND:19691231T230000Z
LOCATION:
SUMMARY:BCCO
DESCRIPTION:BCCO\nhttps://www.theclubmap.com/events/bcco-8/
URL:https://www.theclubmap.com/events/bcco-8/
END:VEVENT
END:VCALENDAR