BEGIN:VCALENDAR
VERSION:2.0
PRODID:-//eventon.com NONSGML v1.0//EN
CALSCALE:GREGORIAN
METHOD:PUBLISH
BEGIN:VEVENT
UID:69e73d9f3004d
DTSTAMP:20260421T090431Z
DTSTART:20260226T220000Z
DTEND:20260226T030000Z
LOCATION:Bulbul Berlin Skalitzer str. 114\,  10999 Berlin
SUMMARY:Diskotek
DESCRIPTION:// Line Up Marcus Holder Blachord Abribass // Info Bulbul (fka 
 Farbfernseher) is a club/bar for electronic dance music in Berlin-Kreuzberg
 \,  located between Görlitzer Bahnhof &#038; Kottbusser Tor. House parties
  in the truest sense of the word take place here. It’s all about good vib
 es\,  groovy sounds &#038; delicious drinks.\nhttps://www.theclubmap.com/ev
 ents/diskotek/
URL:https://www.theclubmap.com/events/diskotek/
END:VEVENT
END:VCALENDAR