BEGIN:VCALENDAR
VERSION:2.0
PRODID:-//eventon.com NONSGML v1.0//EN
CALSCALE:GREGORIAN
METHOD:PUBLISH
BEGIN:VEVENT
UID:69e73e0636182
DTSTAMP:20260421T090614Z
DTSTART:20260227T220000Z
DTEND:20260228T060000Z
LOCATION:Baalsaal | HAMBURG
SUMMARY:ORBE x MUTABLE
DESCRIPTION:ORBE AKIIM SVPERCELL\nhttps://www.theclubmap.com/events/orbe-x-
 mutable/
URL:https://www.theclubmap.com/events/orbe-x-mutable/
END:VEVENT
END:VCALENDAR