BEGIN:VCALENDAR
VERSION:2.0
PRODID:-//eventon.com NONSGML v1.0//EN
CALSCALE:GREGORIAN
METHOD:PUBLISH
BEGIN:VEVENT
UID:69e73b6f6953b
DTSTAMP:20260421T085511Z
DTSTART:20260227T225900Z
DTEND:20260228T210000Z
LOCATION:Südpol Club | HAMBURG
SUMMARY:Expedition Südpol
DESCRIPTION:Randali AKVA Roman Adam G&#8217;lamour Scoopsi Dizzy &#038; Lan
 ce Bombe EllA Lb Honne Xenaia DJ Limbica Josefina Tapia (2) Tobias. LIVE mv
 g Cosmo (KR) Julius Steinhoff Neal White LIVE  herrhoppe Justice Yobovski
  Sheila\nhttps://www.theclubmap.com/events/expedition-suedpol-14/
URL:https://www.theclubmap.com/events/expedition-suedpol-14/
END:VEVENT
END:VCALENDAR