BEGIN:VCALENDAR
VERSION:2.0
PRODID:-//eventon.com NONSGML v1.0//EN
CALSCALE:GREGORIAN
METHOD:PUBLISH
BEGIN:VEVENT
UID:69e74f1a72e70
DTSTAMP:20260421T101906Z
DTSTART:20260228T210000Z
DTEND:20260301T050000Z
LOCATION:Golden Pudel | HAMBURG
SUMMARY:SLIC Unit presents: adhdiva\,  Fernanda\,  Slimgirl fat
DESCRIPTION:Slimgirl fat Fernanda (1) adhdiva\nhttps://www.theclubmap.com/e
 vents/slic-unit-presents-adhdiva-fernanda-slimgirl-fat/
URL:https://www.theclubmap.com/events/slic-unit-presents-adhdiva-fernanda-slimgirl-fat/
END:VEVENT
END:VCALENDAR