BEGIN:VCALENDAR
VERSION:2.0
PRODID:-//eventon.com NONSGML v1.0//EN
CALSCALE:GREGORIAN
METHOD:PUBLISH
BEGIN:VEVENT
UID:69e757f62c62e
DTSTAMP:20260421T105654Z
DTSTART:20260228T220000Z
DTEND:20260301T040000Z
LOCATION:Charlie | MÜNCHEN
SUMMARY:underground instinct with Super Sound Global
DESCRIPTION:Super Sound Global Nic Jalusi Balearic Eric PIO\nhttps://www.th
 eclubmap.com/events/underground-instinct-with-super-sound-global/
URL:https://www.theclubmap.com/events/underground-instinct-with-super-sound-global/
END:VEVENT
END:VCALENDAR