BEGIN:VCALENDAR
VERSION:2.0
PRODID:-//eventon.com NONSGML v1.0//EN
CALSCALE:GREGORIAN
METHOD:PUBLISH
BEGIN:VEVENT
UID:69e7624623bec
DTSTAMP:20260421T114054Z
DTSTART:20260228T220000Z
DTEND:20260301T060000Z
LOCATION:Elektroküche | KÖLN
SUMMARY:Schranz Only w/TEKKERKANE
DESCRIPTION:TEKKERKANE AUDIODRAMA MUSE HECTIC I.D.A SEAN\nhttps://www.thecl
 ubmap.com/events/schranz-only-w-tekkerkane/
URL:https://www.theclubmap.com/events/schranz-only-w-tekkerkane/
END:VEVENT
END:VCALENDAR