BEGIN:VCALENDAR
VERSION:2.0
PRODID:-//eventon.com NONSGML v1.0//EN
CALSCALE:GREGORIAN
METHOD:PUBLISH
BEGIN:VEVENT
UID:69e5fb7aabfc5
DTSTAMP:20260420T101002Z
DTSTART:20260227T220000Z
DTEND:20260228T050000Z
LOCATION:Zoom Club | FRANKFURT
SUMMARY:Cocoon Frankfurt
DESCRIPTION:Sven Vath Mathew Jonson (live) Marie Montexier Dana Ruh André 
 Galluzzi Kuyateh\nhttps://www.theclubmap.com/events/cocoon-frankfurt-4/
URL:https://www.theclubmap.com/events/cocoon-frankfurt-4/
END:VEVENT
END:VCALENDAR