BEGIN:VCALENDAR
VERSION:2.0
PRODID:-//eventon.com NONSGML v1.0//EN
CALSCALE:GREGORIAN
METHOD:PUBLISH
BEGIN:VEVENT
UID:69e76215dd9f2
DTSTAMP:20260421T114005Z
DTSTART:20260227T210000Z
DTEND:20260228T050000Z
LOCATION:Pracht | FRANKFURT
SUMMARY:Pracht pres. with Mark Tarmonea ( Live )\,  Alex Breitling und The Ancient Kid
DESCRIPTION:Mark Tarmonea ( Live ) Alex Breitling The Ancient Kid\nhttps://
 www.theclubmap.com/events/pracht-pres-with-mark-tarmonea-live-alex-breitlin
 g-und-the-ancient-kid/
URL:https://www.theclubmap.com/events/pracht-pres-with-mark-tarmonea-live-alex-breitling-und-the-ancient-kid/
END:VEVENT
END:VCALENDAR