BEGIN:VCALENDAR
VERSION:2.0
PRODID:-//eventon.com NONSGML v1.0//EN
CALSCALE:GREGORIAN
METHOD:PUBLISH
BEGIN:VEVENT
UID:69e771ca5d0ba
DTSTAMP:20260421T124706Z
DTSTART:20260228T225900Z
DTEND:20260301T080000Z
LOCATION:Elipamanoke | LEIPZIG
SUMMARY:SUPERPAMANOKE with The Lady Machine
DESCRIPTION:The Lady Machine  DJ STIMULA KIMYA mononom Senta Julien SLANY
  voivittu\nhttps://www.theclubmap.com/events/superpamanoke-with-the-lady-ma
 chine/
URL:https://www.theclubmap.com/events/superpamanoke-with-the-lady-machine/
END:VEVENT
END:VCALENDAR